Package: ibh Version: 1.50.0 Command: /home/biocbuild/bbs-3.18-bioc/R/bin/R CMD check --install=check:ibh.install-out.txt --library=/home/biocbuild/bbs-3.18-bioc/R/site-library --timings ibh_1.50.0.tar.gz StartedAt: 2024-04-15 23:52:42 -0400 (Mon, 15 Apr 2024) EndedAt: 2024-04-15 23:53:02 -0400 (Mon, 15 Apr 2024) EllapsedTime: 19.9 seconds RetCode: 0 Status: OK CheckDir: ibh.Rcheck Warnings: 0