Package: ibh Version: 1.50.0 Command: /home/biocbuild/bbs-3.18-bioc/R/bin/R CMD INSTALL ibh StartedAt: 2024-04-15 15:07:42 -0400 (Mon, 15 Apr 2024) EndedAt: 2024-04-15 15:07:51 -0400 (Mon, 15 Apr 2024) EllapsedTime: 9.4 seconds RetCode: 0 Status: OK