Package: ibh Version: 1.50.0 Command: rm -rf ibh.buildbin-libdir && mkdir ibh.buildbin-libdir && F:\biocbuild\bbs-3.18-bioc\R\bin\R.exe CMD INSTALL --build --library=ibh.buildbin-libdir ibh_1.50.0.tar.gz StartedAt: 2024-04-16 07:09:19 -0400 (Tue, 16 Apr 2024) EndedAt: 2024-04-16 07:09:38 -0400 (Tue, 16 Apr 2024) EllapsedTime: 19.6 seconds RetCode: 0 Status: OK PackageFile: ibh_1.50.0.zip PackageFileSize: 159.5 KiB