Package: ibh Version: 1.50.0 Command: chmod a+r ibh -R && F:\biocbuild\bbs-3.18-bioc\R\bin\R.exe CMD build --keep-empty-dirs --no-resave-data ibh StartedAt: 2024-04-15 19:04:45 -0400 (Mon, 15 Apr 2024) EndedAt: 2024-04-15 19:04:55 -0400 (Mon, 15 Apr 2024) EllapsedTime: 9.8 seconds RetCode: 0 Status: OK PackageFile: ibh_1.50.0.tar.gz PackageFileSize: 128.1 KiB