Package: imageHTS Version: 1.52.0 Command: /Library/Frameworks/R.framework/Resources/bin/R CMD INSTALL imageHTS StartedAt: 2024-03-03 15:33:35 -0500 (Sun, 03 Mar 2024) EndedAt: 2024-03-03 15:34:13 -0500 (Sun, 03 Mar 2024) EllapsedTime: 38.1 seconds RetCode: 0 Status: OK