Package: imcRtools Version: 1.8.0 Command: F:\biocbuild\bbs-3.18-bioc\R\bin\R.exe CMD check --no-multiarch --install=check:imcRtools.install-out.txt --library=F:\biocbuild\bbs-3.18-bioc\R\library --no-vignettes --timings imcRtools_1.8.0.tar.gz StartedAt: 2024-04-16 01:48:14 -0400 (Tue, 16 Apr 2024) EndedAt: 2024-04-16 02:16:45 -0400 (Tue, 16 Apr 2024) EllapsedTime: 1710.9 seconds RetCode: 0 Status: OK CheckDir: imcRtools.Rcheck Warnings: 0