Package: intansv Version: 1.42.0 Command: /home/biocbuild/R/R-4.3.1/bin/R CMD INSTALL intansv StartedAt: 2023-11-01 20:39:09 -0000 (Wed, 01 Nov 2023) EndedAt: 2023-11-01 20:40:19 -0000 (Wed, 01 Nov 2023) EllapsedTime: 70.5 seconds RetCode: 0 Status: OK