Package: intansv Version: 1.42.0 Command: rm -rf intansv.buildbin-libdir && mkdir intansv.buildbin-libdir && /Users/biocbuild/BBS/utils/build-universal.sh intansv_1.42.0.tar.gz /Library/Frameworks/R.framework/Resources/bin/R intansv.buildbin-libdir StartedAt: 2024-03-04 00:46:36 -0500 (Mon, 04 Mar 2024) EndedAt: 2024-03-04 00:47:51 -0500 (Mon, 04 Mar 2024) EllapsedTime: 74.8 seconds RetCode: 0 Status: OK PackageFile: intansv_1.42.0.tgz PackageFileSize: 708.9 KiB