Package: intansv Version: 1.42.0 Command: rm -rf intansv.buildbin-libdir && mkdir intansv.buildbin-libdir && /Users/biocbuild/BBS/utils/build-universal.sh intansv_1.42.0.tar.gz /Library/Frameworks/R.framework/Resources/bin/R intansv.buildbin-libdir StartedAt: 2024-04-16 12:00:27 -0400 (Tue, 16 Apr 2024) EndedAt: 2024-04-16 12:02:53 -0400 (Tue, 16 Apr 2024) EllapsedTime: 146.1 seconds RetCode: 0 Status: OK PackageFile: intansv_1.42.0.tgz PackageFileSize: 708.8 KiB