Package: interactiveDisplay Version: 1.40.0 Command: rm -rf interactiveDisplay.buildbin-libdir && mkdir interactiveDisplay.buildbin-libdir && F:\biocbuild\bbs-3.18-bioc\R\bin\R.exe CMD INSTALL --build --library=interactiveDisplay.buildbin-libdir interactiveDisplay_1.40.0.tar.gz StartedAt: 2024-04-16 07:10:20 -0400 (Tue, 16 Apr 2024) EndedAt: 2024-04-16 07:10:56 -0400 (Tue, 16 Apr 2024) EllapsedTime: 36.0 seconds RetCode: 0 Status: OK PackageFile: interactiveDisplay_1.40.0.zip PackageFileSize: 2.445 MiB