Package: interactiveDisplay Version: 1.40.0 Command: chmod a+r interactiveDisplay -R && F:\biocbuild\bbs-3.18-bioc\R\bin\R.exe CMD build --keep-empty-dirs --no-resave-data interactiveDisplay StartedAt: 2024-04-15 19:09:48 -0400 (Mon, 15 Apr 2024) EndedAt: 2024-04-15 19:10:57 -0400 (Mon, 15 Apr 2024) EllapsedTime: 68.7 seconds RetCode: 0 Status: OK PackageFile: interactiveDisplay_1.40.0.tar.gz PackageFileSize: 4.528 MiB