Package: interactiveDisplayBase Version: 1.40.0 Command: /home/biocbuild/bbs-3.18-bioc/R/bin/R CMD check --install=check:interactiveDisplayBase.install-out.txt --library=/home/biocbuild/bbs-3.18-bioc/R/site-library --timings interactiveDisplayBase_1.40.0.tar.gz StartedAt: 2024-04-16 00:03:10 -0400 (Tue, 16 Apr 2024) EndedAt: 2024-04-16 00:03:37 -0400 (Tue, 16 Apr 2024) EllapsedTime: 27.4 seconds RetCode: 0 Status: OK CheckDir: interactiveDisplayBase.Rcheck Warnings: 0