Package: interactiveDisplayBase Version: 1.40.0 Command: rm -rf interactiveDisplayBase.buildbin-libdir && mkdir interactiveDisplayBase.buildbin-libdir && F:\biocbuild\bbs-3.18-bioc\R\bin\R.exe CMD INSTALL --build --library=interactiveDisplayBase.buildbin-libdir interactiveDisplayBase_1.40.0.tar.gz StartedAt: 2024-04-16 07:10:21 -0400 (Tue, 16 Apr 2024) EndedAt: 2024-04-16 07:10:28 -0400 (Tue, 16 Apr 2024) EllapsedTime: 6.7 seconds RetCode: 0 Status: OK PackageFile: interactiveDisplayBase_1.40.0.zip PackageFileSize: 34.47 KiB