Package: lemur Version: 1.0.2 Command: /home/biocbuild/R/R-4.3.1/bin/R CMD build --keep-empty-dirs --no-resave-data lemur StartedAt: 2023-11-02 02:38:25 -0000 (Thu, 02 Nov 2023) EndedAt: 2023-11-02 02:40:59 -0000 (Thu, 02 Nov 2023) EllapsedTime: 153.2 seconds RetCode: 0 Status: OK PackageFile: lemur_1.0.2.tar.gz PackageFileSize: 3.343 MiB