Package: lemur Version: 1.0.2 Command: /home/biocbuild/R/R-4.3.1/bin/R CMD INSTALL lemur StartedAt: 2023-11-01 20:26:53 -0000 (Wed, 01 Nov 2023) EndedAt: 2023-11-01 20:28:00 -0000 (Wed, 01 Nov 2023) EllapsedTime: 67.4 seconds RetCode: 0 Status: OK