Package: lemur Version: 1.0.5 Command: /Library/Frameworks/R.framework/Resources/bin/R CMD INSTALL lemur StartedAt: 2024-03-03 15:19:17 -0500 (Sun, 03 Mar 2024) EndedAt: 2024-03-03 15:20:12 -0500 (Sun, 03 Mar 2024) EllapsedTime: 55.3 seconds RetCode: 0 Status: OK