Package: lemur Version: 1.0.5 Command: /Library/Frameworks/R.framework/Resources/bin/R CMD build --keep-empty-dirs --no-resave-data lemur StartedAt: 2024-04-15 19:39:24 -0400 (Mon, 15 Apr 2024) EndedAt: 2024-04-15 19:42:48 -0400 (Mon, 15 Apr 2024) EllapsedTime: 203.4 seconds RetCode: 0 Status: OK PackageFile: lemur_1.0.5.tar.gz PackageFileSize: 3.529 MiB