Package: lemur Version: 1.0.5 Command: /home/biocbuild/bbs-3.18-bioc/R/bin/R CMD INSTALL lemur StartedAt: 2024-04-15 15:21:09 -0400 (Mon, 15 Apr 2024) EndedAt: 2024-04-15 15:21:52 -0400 (Mon, 15 Apr 2024) EllapsedTime: 42.3 seconds RetCode: 0 Status: OK