Package: limma Version: 3.58.1 Command: /Library/Frameworks/R.framework/Resources/bin/R CMD build --keep-empty-dirs --no-resave-data limma StartedAt: 2024-03-03 17:12:14 -0500 (Sun, 03 Mar 2024) EndedAt: 2024-03-03 17:12:49 -0500 (Sun, 03 Mar 2024) EllapsedTime: 35.2 seconds RetCode: 0 Status: OK PackageFile: limma_3.58.1.tar.gz PackageFileSize: 2.675 MiB