Package: limma Version: 3.58.1 Command: /Library/Frameworks/R.framework/Resources/bin/R CMD INSTALL limma StartedAt: 2024-03-03 15:06:29 -0500 (Sun, 03 Mar 2024) EndedAt: 2024-03-03 15:06:58 -0500 (Sun, 03 Mar 2024) EllapsedTime: 29.1 seconds RetCode: 0 Status: OK