Package: limma Version: 3.58.1 Command: rm -rf limma.buildbin-libdir && mkdir limma.buildbin-libdir && F:\biocbuild\bbs-3.18-bioc\R\bin\R.exe CMD INSTALL --build --library=limma.buildbin-libdir limma_3.58.1.tar.gz StartedAt: 2024-04-16 07:12:28 -0400 (Tue, 16 Apr 2024) EndedAt: 2024-04-16 07:13:06 -0400 (Tue, 16 Apr 2024) EllapsedTime: 38.1 seconds RetCode: 0 Status: OK PackageFile: limma_3.58.1.zip PackageFileSize: 2.921 MiB