Package: limmaGUI Version: 1.78.0 Command: /home/biocbuild/R/R-4.3.1/bin/R CMD check --install=check:limmaGUI.install-out.txt --library=/home/biocbuild/R/R-4.3.1/site-library --no-vignettes --timings limmaGUI_1.78.0.tar.gz StartedAt: 2023-11-02 11:41:53 -0000 (Thu, 02 Nov 2023) EndedAt: 2023-11-02 11:42:53 -0000 (Thu, 02 Nov 2023) EllapsedTime: 60.3 seconds RetCode: 0 Status: OK CheckDir: limmaGUI.Rcheck Warnings: 0