Package: limmaGUI Version: 1.78.0 Command: rm -rf limmaGUI.buildbin-libdir && mkdir limmaGUI.buildbin-libdir && /Users/biocbuild/BBS/utils/build-universal.sh limmaGUI_1.78.0.tar.gz /Library/Frameworks/R.framework/Resources/bin/R limmaGUI.buildbin-libdir StartedAt: 2024-04-16 12:04:53 -0400 (Tue, 16 Apr 2024) EndedAt: 2024-04-16 12:05:50 -0400 (Tue, 16 Apr 2024) EllapsedTime: 56.8 seconds RetCode: 0 Status: OK PackageFile: limmaGUI_1.78.0.tgz PackageFileSize: 5.965 MiB