Package: limmaGUI Version: 1.78.0 Command: /Library/Frameworks/R.framework/Resources/bin/R CMD check --install=check:limmaGUI.install-out.txt --library=/Library/Frameworks/R.framework/Resources/library --no-vignettes --timings limmaGUI_1.78.0.tar.gz StartedAt: 2024-04-16 04:37:45 -0400 (Tue, 16 Apr 2024) EndedAt: 2024-04-16 04:39:49 -0400 (Tue, 16 Apr 2024) EllapsedTime: 124.2 seconds RetCode: 0 Status: OK CheckDir: limmaGUI.Rcheck Warnings: 0