Package: limmaGUI Version: 1.78.0 Command: chmod a+r limmaGUI -R && F:\biocbuild\bbs-3.18-bioc\R\bin\R.exe CMD build --keep-empty-dirs --no-resave-data limmaGUI StartedAt: 2024-04-15 19:16:20 -0400 (Mon, 15 Apr 2024) EndedAt: 2024-04-15 19:16:49 -0400 (Mon, 15 Apr 2024) EllapsedTime: 29.1 seconds RetCode: 0 Status: OK PackageFile: limmaGUI_1.78.0.tar.gz PackageFileSize: 5.244 MiB