Package: lipidr Version: 2.16.0 Command: /home/biocbuild/R/R-4.3.1/bin/R CMD build --keep-empty-dirs --no-resave-data lipidr StartedAt: 2023-11-02 02:42:07 -0000 (Thu, 02 Nov 2023) EndedAt: 2023-11-02 02:43:18 -0000 (Thu, 02 Nov 2023) EllapsedTime: 71.1 seconds RetCode: 0 Status: OK PackageFile: lipidr_2.16.0.tar.gz PackageFileSize: 3.098 MiB