Package: lmdme Version: 1.44.0 Command: /Library/Frameworks/R.framework/Resources/bin/R CMD check --install=check:lmdme.install-out.txt --library=/Library/Frameworks/R.framework/Resources/library --no-vignettes --timings lmdme_1.44.0.tar.gz StartedAt: 2024-03-03 21:28:50 -0500 (Sun, 03 Mar 2024) EndedAt: 2024-03-03 21:29:56 -0500 (Sun, 03 Mar 2024) EllapsedTime: 65.8 seconds RetCode: 0 Status: WARNINGS CheckDir: lmdme.Rcheck Warnings: 1