Package: logicFS Version: 2.22.0 Command: /Library/Frameworks/R.framework/Resources/bin/R CMD check --install=check:logicFS.install-out.txt --library=/Library/Frameworks/R.framework/Resources/library --no-vignettes --timings logicFS_2.22.0.tar.gz StartedAt: 2024-03-03 21:29:22 -0500 (Sun, 03 Mar 2024) EndedAt: 2024-03-03 21:30:37 -0500 (Sun, 03 Mar 2024) EllapsedTime: 74.9 seconds RetCode: 0 Status: OK CheckDir: logicFS.Rcheck Warnings: 0