Package: logicFS Version: 2.22.0 Command: F:\biocbuild\bbs-3.18-bioc\R\bin\R.exe CMD check --no-multiarch --install=check:logicFS.install-out.txt --library=F:\biocbuild\bbs-3.18-bioc\R\library --no-vignettes --timings logicFS_2.22.0.tar.gz StartedAt: 2024-04-16 02:09:23 -0400 (Tue, 16 Apr 2024) EndedAt: 2024-04-16 02:10:34 -0400 (Tue, 16 Apr 2024) EllapsedTime: 71.4 seconds RetCode: 0 Status: OK CheckDir: logicFS.Rcheck Warnings: 0