Package: logicFS Version: 2.22.0 Command: F:\biocbuild\bbs-3.18-bioc\R\bin\R.exe CMD INSTALL logicFS StartedAt: 2024-04-15 16:26:22 -0400 (Mon, 15 Apr 2024) EndedAt: 2024-04-15 16:26:38 -0400 (Mon, 15 Apr 2024) EllapsedTime: 16.1 seconds RetCode: 0 Status: OK