Package: logitT Version: 1.60.0 Command: /home/biocbuild/R/R-4.3.1/bin/R CMD check --install=check:logitT.install-out.txt --library=/home/biocbuild/R/R-4.3.1/site-library --no-vignettes --timings logitT_1.60.0.tar.gz StartedAt: 2023-11-02 11:44:06 -0000 (Thu, 02 Nov 2023) EndedAt: 2023-11-02 11:52:16 -0000 (Thu, 02 Nov 2023) EllapsedTime: 489.9 seconds RetCode: 1 Status: ERROR CheckDir: logitT.Rcheck Warnings: NA