Package: logitT Version: 1.60.0 Command: rm -rf logitT.buildbin-libdir && mkdir logitT.buildbin-libdir && F:\biocbuild\bbs-3.18-bioc\R\bin\R.exe CMD INSTALL --build --library=logitT.buildbin-libdir logitT_1.60.0.tar.gz StartedAt: 2024-04-16 07:12:53 -0400 (Tue, 16 Apr 2024) EndedAt: 2024-04-16 07:13:00 -0400 (Tue, 16 Apr 2024) EllapsedTime: 7.7 seconds RetCode: 0 Status: OK PackageFile: logitT_1.60.0.zip PackageFileSize: 182.4 KiB