Package: lumi Version: 2.54.0 Command: /Library/Frameworks/R.framework/Resources/bin/R CMD build --keep-empty-dirs --no-resave-data lumi StartedAt: 2024-04-15 19:41:57 -0400 (Mon, 15 Apr 2024) EndedAt: 2024-04-15 19:42:01 -0400 (Mon, 15 Apr 2024) EllapsedTime: 3.3 seconds RetCode: 0 Status: OK PackageFile: lumi_2.54.0.tar.gz PackageFileSize: 8.033 MiB