Package: lumi Version: 2.54.0 Command: /Library/Frameworks/R.framework/Resources/bin/R CMD INSTALL lumi StartedAt: 2024-04-15 16:33:44 -0400 (Mon, 15 Apr 2024) EndedAt: 2024-04-15 16:35:59 -0400 (Mon, 15 Apr 2024) EllapsedTime: 135.0 seconds RetCode: 0 Status: OK