Package: lumi Version: 2.54.0 Command: /home/biocbuild/bbs-3.18-bioc/R/bin/R CMD check --install=check:lumi.install-out.txt --library=/home/biocbuild/bbs-3.18-bioc/R/site-library --timings lumi_2.54.0.tar.gz StartedAt: 2024-04-16 00:22:06 -0400 (Tue, 16 Apr 2024) EndedAt: 2024-04-16 00:29:04 -0400 (Tue, 16 Apr 2024) EllapsedTime: 417.3 seconds RetCode: 0 Status: WARNINGS CheckDir: lumi.Rcheck Warnings: 3