Package: lumi Version: 2.54.0 Command: /home/biocbuild/bbs-3.18-bioc/R/bin/R CMD INSTALL lumi StartedAt: 2024-04-15 15:48:09 -0400 (Mon, 15 Apr 2024) EndedAt: 2024-04-15 15:49:07 -0400 (Mon, 15 Apr 2024) EllapsedTime: 57.9 seconds RetCode: 0 Status: OK