Package: mCSEA Version: 1.22.0 Command: chmod a+r mCSEA -R && F:\biocbuild\bbs-3.18-bioc\R\bin\R.exe CMD build --keep-empty-dirs --no-resave-data mCSEA StartedAt: 2024-04-15 19:23:00 -0400 (Mon, 15 Apr 2024) EndedAt: 2024-04-15 19:27:09 -0400 (Mon, 15 Apr 2024) EllapsedTime: 248.1 seconds RetCode: 0 Status: OK PackageFile: mCSEA_1.22.0.tar.gz PackageFileSize: 1.847 MiB