Package: maPredictDSC Version: 1.40.0 Command: /home/biocbuild/R/R-4.3.1/bin/R CMD check --install=check:maPredictDSC.install-out.txt --library=/home/biocbuild/R/R-4.3.1/site-library --no-vignettes --timings maPredictDSC_1.40.0.tar.gz StartedAt: 2023-11-02 11:49:07 -0000 (Thu, 02 Nov 2023) EndedAt: 2023-11-02 11:53:05 -0000 (Thu, 02 Nov 2023) EllapsedTime: 237.9 seconds RetCode: 1 Status: ERROR CheckDir: maPredictDSC.Rcheck Warnings: NA