Package: maPredictDSC Version: 1.40.0 Command: /Library/Frameworks/R.framework/Resources/bin/R CMD INSTALL maPredictDSC StartedAt: 2024-04-15 16:20:46 -0400 (Mon, 15 Apr 2024) EndedAt: 2024-04-15 16:21:37 -0400 (Mon, 15 Apr 2024) EllapsedTime: 51.0 seconds RetCode: 0 Status: OK