Package: maPredictDSC Version: 1.40.0 Command: chmod a+r maPredictDSC -R && F:\biocbuild\bbs-3.18-bioc\R\bin\R.exe CMD build --keep-empty-dirs --no-resave-data maPredictDSC StartedAt: 2024-04-15 19:20:04 -0400 (Mon, 15 Apr 2024) EndedAt: 2024-04-15 19:21:57 -0400 (Mon, 15 Apr 2024) EllapsedTime: 113.7 seconds RetCode: 0 Status: OK PackageFile: maPredictDSC_1.40.0.tar.gz PackageFileSize: 99.92 KiB