Package: made4 Version: 1.76.0 Command: rm -rf made4.buildbin-libdir && mkdir made4.buildbin-libdir && /Users/biocbuild/BBS/utils/build-universal.sh made4_1.76.0.tar.gz /Library/Frameworks/R.framework/Resources/bin/R made4.buildbin-libdir StartedAt: 2024-03-04 00:48:28 -0500 (Mon, 04 Mar 2024) EndedAt: 2024-03-04 00:49:03 -0500 (Mon, 04 Mar 2024) EllapsedTime: 35.3 seconds RetCode: 0 Status: OK PackageFile: made4_1.76.0.tgz PackageFileSize: 2.16 MiB