Package: made4 Version: 1.76.0 Command: /Library/Frameworks/R.framework/Resources/bin/R CMD INSTALL made4 StartedAt: 2024-03-03 15:11:52 -0500 (Sun, 03 Mar 2024) EndedAt: 2024-03-03 15:12:25 -0500 (Sun, 03 Mar 2024) EllapsedTime: 32.7 seconds RetCode: 0 Status: OK