Package: made4 Version: 1.76.0 Command: /home/biocbuild/bbs-3.18-bioc/R/bin/R CMD INSTALL made4 StartedAt: 2024-04-15 15:13:05 -0400 (Mon, 15 Apr 2024) EndedAt: 2024-04-15 15:13:28 -0400 (Mon, 15 Apr 2024) EllapsedTime: 23.0 seconds RetCode: 0 Status: OK