Package: made4 Version: 1.76.0 Command: rm -rf made4.buildbin-libdir && mkdir made4.buildbin-libdir && F:\biocbuild\bbs-3.18-bioc\R\bin\R.exe CMD INSTALL --build --library=made4.buildbin-libdir made4_1.76.0.tar.gz StartedAt: 2024-04-16 07:13:24 -0400 (Tue, 16 Apr 2024) EndedAt: 2024-04-16 07:13:52 -0400 (Tue, 16 Apr 2024) EllapsedTime: 27.7 seconds RetCode: 0 Status: OK PackageFile: made4_1.76.0.zip PackageFileSize: 1.386 MiB