Package: maftools Version: 2.18.0 Command: /home/biocbuild/R/R-4.3.1/bin/R CMD check --install=check:maftools.install-out.txt --library=/home/biocbuild/R/R-4.3.1/site-library --no-vignettes --timings maftools_2.18.0.tar.gz StartedAt: 2023-11-02 11:47:38 -0000 (Thu, 02 Nov 2023) EndedAt: 2023-11-02 11:50:15 -0000 (Thu, 02 Nov 2023) EllapsedTime: 157.0 seconds RetCode: 0 Status: WARNINGS CheckDir: maftools.Rcheck Warnings: 2