Package: maftools Version: 2.18.0 Command: /home/biocbuild/bbs-3.18-bioc/R/bin/R CMD build --keep-empty-dirs --no-resave-data maftools StartedAt: 2024-04-15 17:45:07 -0400 (Mon, 15 Apr 2024) EndedAt: 2024-04-15 17:47:57 -0400 (Mon, 15 Apr 2024) EllapsedTime: 170.8 seconds RetCode: 0 Status: OK PackageFile: maftools_2.18.0.tar.gz PackageFileSize: 10.92 MiB