Package: mariner
Version: 1.2.0
Maintainer: Eric Davis
MaintainerEmail: ericscottdavis at outlook.com
git_url: https://git.bioconductor.org/packages/mariner
git_branch: RELEASE_3_18
git_last_commit: 9906b32
git_last_commit_date: 2023-10-24 11:48:59 -0400 (Tue, 24 Oct 2023)