Package: marray Version: 1.80.0 Command: /home/biocbuild/R/R-4.3.1/bin/R CMD build --keep-empty-dirs --no-resave-data marray StartedAt: 2023-11-02 02:50:49 -0000 (Thu, 02 Nov 2023) EndedAt: 2023-11-02 02:51:25 -0000 (Thu, 02 Nov 2023) EllapsedTime: 36.0 seconds RetCode: 0 Status: OK PackageFile: marray_1.80.0.tar.gz PackageFileSize: 5.58 MiB