Package: marray Version: 1.80.0 Command: /home/biocbuild/R/R-4.3.1/bin/R CMD INSTALL marray StartedAt: 2023-11-01 20:08:19 -0000 (Wed, 01 Nov 2023) EndedAt: 2023-11-01 20:08:33 -0000 (Wed, 01 Nov 2023) EllapsedTime: 14.6 seconds RetCode: 0 Status: OK