Package: massiR Version: 1.38.0 Command: rm -rf massiR.buildbin-libdir && mkdir massiR.buildbin-libdir && /Users/biocbuild/BBS/utils/build-universal.sh massiR_1.38.0.tar.gz /Library/Frameworks/R.framework/Resources/bin/R massiR.buildbin-libdir StartedAt: 2024-03-04 00:48:51 -0500 (Mon, 04 Mar 2024) EndedAt: 2024-03-04 00:48:59 -0500 (Mon, 04 Mar 2024) EllapsedTime: 8.0 seconds RetCode: 0 Status: OK PackageFile: massiR_1.38.0.tgz PackageFileSize: 1.148 MiB